BEGIN:VCALENDAR
VERSION:2.0
PRODID:-//Carrier Now - ECPv6.13.1//NONSGML v1.0//EN
CALSCALE:GREGORIAN
METHOD:PUBLISH
X-ORIGINAL-URL:https://carriernow.eu
X-WR-CALDESC:Eventos para Carrier Now
REFRESH-INTERVAL;VALUE=DURATION:PT1H
X-Robots-Tag:noindex
X-PUBLISHED-TTL:PT1H
BEGIN:VTIMEZONE
TZID:Europe/Madrid
BEGIN:DAYLIGHT
TZOFFSETFROM:+0100
TZOFFSETTO:+0200
TZNAME:CEST
DTSTART:20200329T010000
END:DAYLIGHT
BEGIN:STANDARD
TZOFFSETFROM:+0200
TZOFFSETTO:+0100
TZNAME:CET
DTSTART:20201025T010000
END:STANDARD
BEGIN:DAYLIGHT
TZOFFSETFROM:+0100
TZOFFSETTO:+0200
TZNAME:CEST
DTSTART:20210328T010000
END:DAYLIGHT
BEGIN:STANDARD
TZOFFSETFROM:+0200
TZOFFSETTO:+0100
TZNAME:CET
DTSTART:20211031T010000
END:STANDARD
END:VTIMEZONE
BEGIN:VEVENT
DTSTART;TZID=Europe/Madrid:20210602T100000
DTEND;TZID=Europe/Madrid:20210602T110000
DTSTAMP:20260420T224350
CREATED:20210514T090723Z
LAST-MODIFIED:20210514T090832Z
UID:54354-1622628000-1622631600@carriernow.eu
SUMMARY:Mejora la calidad del aire en la instalación!
DESCRIPTION:Diversos estudios indican que pasamos alrededor de un 90% de nuestro tiempo en el interior de los edificios\, durante este webinar se tratará el tema de la ventilación a través de recuperadores de calor\, analizando la tecnologías de estos equipos y su control. \nImpartido por Enrique Gómez\, responsable de producto Large Systems. \nCarrier Healthy Buildings Program. \nPuedes inscribirte aquí.
URL:https://carriernow.eu/event/mejora-la-calidad-del-aire-en-la-instalacion/
ATTACH;FMTTYPE=image/png:https://carriernow.eu/wp-content/uploads/2021/05/WEBINAR-0206.png
END:VEVENT
BEGIN:VEVENT
DTSTART;TZID=Europe/Madrid:20201029T110000
DTEND;TZID=Europe/Madrid:20201029T233000
DTSTAMP:20260420T224350
CREATED:20201020T210232Z
LAST-MODIFIED:20201020T210232Z
UID:53893-1603969200-1604014200@carriernow.eu
SUMMARY:Estrategias para mejorar la calidad del aire!
DESCRIPTION:Enmarcado dentro del programa Healthy Buildings de Carrier\, en este webinar analizaremos las diferentes estrategias y sistemas de control de las instalaciones de climatización que nos pueden ayudar a mejorar la calidad del aire interior. \nImpartido por Víctor Ábalo\, responsable del departamento de control de Carrier España. \nPuedes inscribirte aquí.
URL:https://carriernow.eu/event/estrategias-para-mejorar-la-calidad-del-aire/
ATTACH;FMTTYPE=image/png:https://carriernow.eu/wp-content/uploads/2020/10/WeBINAR-4.png
END:VEVENT
BEGIN:VEVENT
DTSTART;TZID=Europe/Madrid:20201020T180000
DTEND;TZID=Europe/Madrid:20201020T193000
DTSTAMP:20260420T224350
CREATED:20201012T210430Z
LAST-MODIFIED:20201012T212106Z
UID:53883-1603216800-1603222200@carriernow.eu
SUMMARY:Calidad del aire con sistemas HVAC!
DESCRIPTION:Diversos estudios indican que pasamos alrededor de un 90% de nuestro tiempo en el interior de los edificios\, durante este webinar se analizarán diferentes tecnologías que se integran en los equipos HVAC para conseguir el mejor ambiente posible dentro de nuestros edificios y que puedan dar respuesta a la demanda actual y futura.\nImpartido por Enrique Gómez\, responsable de producto Large Systems. \nCarrier Healthy Buildings Program. \nPuedes inscribirte aquí.
URL:https://carriernow.eu/event/calidad-del-aire-con-sistemas-hvac/
ATTACH;FMTTYPE=image/png:https://carriernow.eu/wp-content/uploads/2020/10/webinar-hbp-3.png
END:VEVENT
BEGIN:VEVENT
DTSTART;TZID=Europe/Madrid:20201008T110000
DTEND;TZID=Europe/Madrid:20201008T120000
DTSTAMP:20260420T224350
CREATED:20200930T161316Z
LAST-MODIFIED:20200930T161508Z
UID:53858-1602154800-1602158400@carriernow.eu
SUMMARY:Fundamental para la calidad del aire!
DESCRIPTION:Durante este webinar analizaremos las diferentes tipologías de filtración\, haciendo un repaso de las normativas aplicables y criterios de diseño\, disponibles para unidades de tratamiento de aire. Este webinar forma parte del programa Healthy Buildings de Carrier. \nImpartido por Manuel Tristán\, responsable de prescripción de la zona sur. \nDuración: 60 min. \nPuedes inscribirte aquí.
URL:https://carriernow.eu/event/fundamental-para-la-calidad-del-aire/
ATTACH;FMTTYPE=image/png:https://carriernow.eu/wp-content/uploads/2020/09/WEBINAR-SERIES-2.png
END:VEVENT
BEGIN:VEVENT
DTSTART;TZID=Europe/Madrid:20200929T110000
DTEND;TZID=Europe/Madrid:20200929T120000
DTSTAMP:20260420T224350
CREATED:20200922T073023Z
LAST-MODIFIED:20200922T100108Z
UID:53846-1601377200-1601380800@carriernow.eu
SUMMARY:Descubre más detalles en esta sesión!
DESCRIPTION:La situación actual ha reforzado el importante papel que desempeñan las instalaciones de climatización para garantizar y proteger la salud pública. \nLas soluciones de Calidad de Aire Interior pueden ayudar a controlar el ambiente interior de los edificios\, principalmente actuando sobre la cantidad de aire de renovación\, es decir aire limpio del exterior\, que introducimos dentro de los edificios\, aunque también permite controlar su temperatura\, humedad y calidad. \nAdemás estos sistemas permiten incluir medidas activas de retención y desinfección\, como puede ser mejorar el nivel de filtración\, para evitar que agentes contaminantes entren en el edificio\, o la incorporación de lámparas ultravioleta o sistemas de ionización. \nDescubre más detalles en esta sesión. \nImpartido por Enrique Gómez. \nDuración: 60 min. \nInscríbete aquí.
URL:https://carriernow.eu/event/descubre-mas-detalles-en-esta-sesion/
ATTACH;FMTTYPE=image/png:https://carriernow.eu/wp-content/uploads/2020/09/HB-CARRIER-NOW.png
END:VEVENT
BEGIN:VEVENT
DTSTART;VALUE=DATE:20200901
DTEND;VALUE=DATE:20200902
DTSTAMP:20260420T224350
CREATED:20200729T074130Z
LAST-MODIFIED:20200922T095613Z
UID:53723-1598918400-1599004799@carriernow.eu
SUMMARY:Más Jornadas en Septiembre!
DESCRIPTION:Volvemos en Septiembre con muchos más cursos\, charlas y formación! Regístrate en Carrier Now y mantente informado de todas nuestras actividades y contenido. Puedes inscribirte pinchando aquí. \nTambién puedes seguir formándote accediendo a nuestra sección de contenido\, hay mucho material que puede ser de tu interés! Empieza ahora. \nPuedes ver las jornadas anteriores de Carrier University desde aquí: Selección de Enfriadoras\, HAP\, Unidades de Tratamiento de Aire\, Sistemas de Control…
URL:https://carriernow.eu/event/mas-formacion-en-septiembre/
ATTACH;FMTTYPE=image/png:https://carriernow.eu/wp-content/uploads/2020/07/VOLVEMOS-EN-SEPTIEMBRE.png
END:VEVENT
BEGIN:VEVENT
DTSTART;VALUE=DATE:20200901
DTEND;VALUE=DATE:20200905
DTSTAMP:20260420T224350
CREATED:20200729T092440Z
LAST-MODIFIED:20200904T072741Z
UID:53740-1598918400-1599263999@carriernow.eu
SUMMARY:Tu opinión nos interesa!
DESCRIPTION:Para nosotros es muy importante que nos cuentes tus necesidades y\, de esta forma\, poder adaptar nuestros contenidos.  Actualizamos constantemente Carrier NOW para aportarte información que sea realmente útil para tí. La mejor forma de hacerlo es teniendo tu opinión\, puedes escribirnos desde aquí. \nMuchas gracias por ayudarnos a mejorar Carrier NOW!
URL:https://carriernow.eu/event/tu-opinion-cuenta/
ATTACH;FMTTYPE=image/png:https://carriernow.eu/wp-content/uploads/2020/07/queremos-oirte.png
END:VEVENT
BEGIN:VEVENT
DTSTART;VALUE=DATE:20200901
DTEND;VALUE=DATE:20200905
DTSTAMP:20260420T224350
CREATED:20200729T075723Z
LAST-MODIFIED:20200904T121333Z
UID:53732-1598918400-1599263999@carriernow.eu
SUMMARY:Fórmate cuando más te apetezca!
DESCRIPTION:Hemos preparado contenido relacionado con la climatización y el aire acondicionado para que te formes este verano. \nPuedes acceder desde aquí. \nDisfruta del verano con nosotros!
URL:https://carriernow.eu/event/formate-cuando-mas-te-apetezca/
ATTACH;FMTTYPE=image/png:https://carriernow.eu/wp-content/uploads/2020/07/APROVECHA-EL-VERANO.png
END:VEVENT
BEGIN:VEVENT
DTSTART;TZID=Europe/Madrid:20200526T100000
DTEND;TZID=Europe/Madrid:20200526T110000
DTSTAMP:20260420T224350
CREATED:20200507T100410Z
LAST-MODIFIED:20200507T100410Z
UID:53644-1590487200-1590490800@carriernow.eu
SUMMARY:Un repaso a la recuperación en Sistemas Hidrónicos
DESCRIPTION:La recuperación de calor procedente de los sistemas hidrónicos de climatización y procesos supone una oportunidad energética para incrementar la eficiencia operativa de las instalaciones de confort y del sector industrial. En esta sesión veremos las diferentes tecnologías que podemos encontrar y consideraciones en el diseño de estas medidas energéticas así como su aplicación a un caso práctico. Impartido por Enrique Gómez. Duración: 60 minutos. \nPuedes inscribirte aquí. \n  \n 
URL:https://carriernow.eu/event/un-repaso-a-la-recuperacion-en-sistemas-hidronicos/
ATTACH;FMTTYPE=image/png:https://carriernow.eu/wp-content/uploads/2020/05/Recuperacion-de-calor.png
END:VEVENT
BEGIN:VEVENT
DTSTART;TZID=Europe/Madrid:20200519T100000
DTEND;TZID=Europe/Madrid:20200519T110000
DTSTAMP:20260420T224350
CREATED:20200502T183525Z
LAST-MODIFIED:20200502T184215Z
UID:53633-1589882400-1589886000@carriernow.eu
SUMMARY:Aprende a usar HAP para la certificación LEED
DESCRIPTION:Enmarcada dentro de Carrier University Online\, durante esta sesión haremos un breve repaso de la certificación LEED y nos centraremos en la sección Energy&Atmosphere Credit 1: Optimize Energy Performance para ver\, con un caso práctico\, cómo utilizar el software HAP para conseguir la mayor puntuación posible. Impartida por Elías Álvarez y Ángel Cancela. Duración: 60 minutos. hora. \nPuedes inscribirte aquí.
URL:https://carriernow.eu/event/aprende-a-usar-hap-para-la-certificacion-leed/
ATTACH;FMTTYPE=image/png:https://carriernow.eu/wp-content/uploads/2020/05/LEEDHAP.png
END:VEVENT
BEGIN:VEVENT
DTSTART;TZID=Europe/Madrid:20200512T100000
DTEND;TZID=Europe/Madrid:20200512T230000
DTSTAMP:20260420T224350
CREATED:20200428T134832Z
LAST-MODIFIED:20200428T134917Z
UID:53614-1589277600-1589324400@carriernow.eu
SUMMARY:Todo para mantener tu instalación bajo control
DESCRIPTION:Evento Formativo Online. \nDurante esta sesión de Carrier University Online\, analizaremos desde un punto de vista práctico la función del sistema de control en instalaciones HVAC como elemento clave en la consecución de las condiciones de confort y reducción del consumo energético\, con diferentes ejemplos para varias tipologías de edificios y diversas soluciones de control. Impartida por Víctor Abalo\, responsable del departamento de Control. Duración: 60 min. \nPuedes inscribirte aquí.
URL:https://carriernow.eu/event/todo-para-mantener-tu-instalacion-bajo-control/
ATTACH;FMTTYPE=image/png:https://carriernow.eu/wp-content/uploads/2020/04/Control-Instalaciones.png
END:VEVENT
BEGIN:VEVENT
DTSTART;TZID=Europe/Madrid:20200505T100000
DTEND;TZID=Europe/Madrid:20200505T230000
DTSTAMP:20260420T224350
CREATED:20200420T134326Z
LAST-MODIFIED:20200420T135802Z
UID:53481-1588672800-1588719600@carriernow.eu
SUMMARY:Criterios de selección y optimización UTAs
DESCRIPTION:Evento Formativo Online. \nDurante esta sesión de Carrier University Online\, abordaremos la selección de climatizadores para diferentes zonas hospitalarias. Veremos cuáles son los criterios de selección de envolventes y acabados de los climatizadores así como la óptima distribución de los diferentes elementos internos de los equipos en estos entornos haciendo especial hincapié en acabados\, baterías\, recuperación y filtración. Se comentarán aspectos relevantes del marco normativo en estos entornos. Impartida por Manuel Tristán. Duración: 60 min. \n  \nPuedes inscribirte aquí.
URL:https://carriernow.eu/event/climatizadores-entornos-hospitalarios/
ATTACH;FMTTYPE=image/png:https://carriernow.eu/wp-content/uploads/2020/04/Climatizadores-en-entornos-hospitalarios.png
END:VEVENT
BEGIN:VEVENT
DTSTART;TZID=Europe/Madrid:20200430T100000
DTEND;TZID=Europe/Madrid:20200430T230000
DTSTAMP:20260420T224350
CREATED:20200417T061239Z
LAST-MODIFIED:20200417T062143Z
UID:53470-1588240800-1588287600@carriernow.eu
SUMMARY:¿Quieres saber más sobre ellos?
DESCRIPTION:Evento Formativo Online.  \nLos condicionantes ambientales asociados al uso de refrigerantes son conocidos desde hace tiempo. En el pasado reciente se han ido eliminando aquellos que originaban la destrucción de la capa de ozono. Actualmente el entorno normativo nacional\, europeo y mundial nos encamina hacia la minimización del potencial de calentamiento atmosférico de los refrigerantes empleados. \nEste escenario ha obligado al desarrollo de refrigerantes sintéticos de 4ª generación\, sin efecto sobre la capa de ozono y con muy bajo o casi nulo potencial de calentamiento atmosférico: HFOs\, HFCs de medio impacto y mezclas de HFOs y HFCs (A1 y A2L). \nLa Jornada Técnica que presentamos repasa aspectos técnicos de los refrigerantes\, sus implicaciones en el diseño de instalaciones\, el entorno normativo (F-Gas\, Ecodiseño y RSIF)\, así como las soluciones tecnológicas disponibles para aplicaciones de climatización. \nImpartido por Josué Ros. \nDuración: 60 min. \nPuedes inscribirte aquí.
URL:https://carriernow.eu/event/quieres-saber-mas-sobre-ellos/
ATTACH;FMTTYPE=image/png:https://carriernow.eu/wp-content/uploads/2020/02/refrigerantes_online.png
END:VEVENT
BEGIN:VEVENT
DTSTART;TZID=Europe/Madrid:20200428T100000
DTEND;TZID=Europe/Madrid:20200428T110000
DTSTAMP:20260420T224350
CREATED:20200227T145310Z
LAST-MODIFIED:20200417T060241Z
UID:47854-1588068000-1588071600@carriernow.eu
SUMMARY:Un repaso a la actualidad normativa
DESCRIPTION:Evento Formativo Online. \nEnmarcada dentro del programa Carrier University Online\, durante esta sesión haremos un repaso de la actualidad normativa: FGas\, ecodiseño\, RSIF y carga límite en enfriadoras. Una charla muy interesante para clarificar conceptos que nos afectan en nuestro día a día.\nPonente: Enrique Gómez\nDuración: 60 min \nPuedes inscribirte aquí.
URL:https://carriernow.eu/event/entorno-normativo/
CATEGORIES:Eventos Carrier
ATTACH;FMTTYPE=image/png:https://carriernow.eu/wp-content/uploads/2020/02/Entorno-Normativo_online.png
END:VEVENT
BEGIN:VEVENT
DTSTART;TZID=Europe/Madrid:20200414T100000
DTEND;TZID=Europe/Madrid:20200416T110000
DTSTAMP:20260420T224350
CREATED:20200227T152555Z
LAST-MODIFIED:20200412T213806Z
UID:47883-1586858400-1587034800@carriernow.eu
SUMMARY:Seminario Online sobre Hourly Analysis Program
DESCRIPTION:Evento formativo organizado ONLINE. \nTe invitamos a formarte \nLanzamos este curso online\, dividido en 3 sesiones de 1 hora\, que servirá como repaso de los conceptos y funcionalidades principales del software Hourly Analysis Program (HAP). \nSESIÓN 1: Cálculo de cargas térmicas 14/04  10 a 11 \nSESIÓN 2: Comparación Sistemas 15/04  10 a 11 \nSESIÓN 3: Simulación Energética 16/04  10 a 11 \nSi estás interesado envíanos un correo a marketing.es@carrier.com.
URL:https://carriernow.eu/event/todo/
CATEGORIES:Eventos Carrier
ATTACH;FMTTYPE=image/png:https://carriernow.eu/wp-content/uploads/2020/02/HAP-2.png
END:VEVENT
END:VCALENDAR