BEGIN:VCALENDAR
VERSION:2.0
PRODID:-//Carrier Now - ECPv6.13.1//NONSGML v1.0//EN
CALSCALE:GREGORIAN
METHOD:PUBLISH
X-ORIGINAL-URL:https://carriernow.eu
X-WR-CALDESC:Eventos para Carrier Now
REFRESH-INTERVAL;VALUE=DURATION:PT1H
X-Robots-Tag:noindex
X-PUBLISHED-TTL:PT1H
BEGIN:VTIMEZONE
TZID:Europe/Madrid
BEGIN:DAYLIGHT
TZOFFSETFROM:+0100
TZOFFSETTO:+0200
TZNAME:CEST
DTSTART:20200329T010000
END:DAYLIGHT
BEGIN:STANDARD
TZOFFSETFROM:+0200
TZOFFSETTO:+0100
TZNAME:CET
DTSTART:20201025T010000
END:STANDARD
END:VTIMEZONE
BEGIN:VEVENT
DTSTART;TZID=Europe/Madrid:20200519T100000
DTEND;TZID=Europe/Madrid:20200519T110000
DTSTAMP:20260420T211250
CREATED:20200502T183525Z
LAST-MODIFIED:20200502T184215Z
UID:53633-1589882400-1589886000@carriernow.eu
SUMMARY:Aprende a usar HAP para la certificación LEED
DESCRIPTION:Enmarcada dentro de Carrier University Online\, durante esta sesión haremos un breve repaso de la certificación LEED y nos centraremos en la sección Energy&Atmosphere Credit 1: Optimize Energy Performance para ver\, con un caso práctico\, cómo utilizar el software HAP para conseguir la mayor puntuación posible. Impartida por Elías Álvarez y Ángel Cancela. Duración: 60 minutos. hora. \nPuedes inscribirte aquí.
URL:https://carriernow.eu/event/aprende-a-usar-hap-para-la-certificacion-leed/
ATTACH;FMTTYPE=image/png:https://carriernow.eu/wp-content/uploads/2020/05/LEEDHAP.png
END:VEVENT
BEGIN:VEVENT
DTSTART;TZID=Europe/Madrid:20200512T100000
DTEND;TZID=Europe/Madrid:20200512T230000
DTSTAMP:20260420T211250
CREATED:20200428T134832Z
LAST-MODIFIED:20200428T134917Z
UID:53614-1589277600-1589324400@carriernow.eu
SUMMARY:Todo para mantener tu instalación bajo control
DESCRIPTION:Evento Formativo Online. \nDurante esta sesión de Carrier University Online\, analizaremos desde un punto de vista práctico la función del sistema de control en instalaciones HVAC como elemento clave en la consecución de las condiciones de confort y reducción del consumo energético\, con diferentes ejemplos para varias tipologías de edificios y diversas soluciones de control. Impartida por Víctor Abalo\, responsable del departamento de Control. Duración: 60 min. \nPuedes inscribirte aquí.
URL:https://carriernow.eu/event/todo-para-mantener-tu-instalacion-bajo-control/
ATTACH;FMTTYPE=image/png:https://carriernow.eu/wp-content/uploads/2020/04/Control-Instalaciones.png
END:VEVENT
BEGIN:VEVENT
DTSTART;TZID=Europe/Madrid:20200505T100000
DTEND;TZID=Europe/Madrid:20200505T230000
DTSTAMP:20260420T211250
CREATED:20200420T134326Z
LAST-MODIFIED:20200420T135802Z
UID:53481-1588672800-1588719600@carriernow.eu
SUMMARY:Criterios de selección y optimización UTAs
DESCRIPTION:Evento Formativo Online. \nDurante esta sesión de Carrier University Online\, abordaremos la selección de climatizadores para diferentes zonas hospitalarias. Veremos cuáles son los criterios de selección de envolventes y acabados de los climatizadores así como la óptima distribución de los diferentes elementos internos de los equipos en estos entornos haciendo especial hincapié en acabados\, baterías\, recuperación y filtración. Se comentarán aspectos relevantes del marco normativo en estos entornos. Impartida por Manuel Tristán. Duración: 60 min. \n  \nPuedes inscribirte aquí.
URL:https://carriernow.eu/event/climatizadores-entornos-hospitalarios/
ATTACH;FMTTYPE=image/png:https://carriernow.eu/wp-content/uploads/2020/04/Climatizadores-en-entornos-hospitalarios.png
END:VEVENT
BEGIN:VEVENT
DTSTART;TZID=Europe/Madrid:20200430T100000
DTEND;TZID=Europe/Madrid:20200430T230000
DTSTAMP:20260420T211250
CREATED:20200417T061239Z
LAST-MODIFIED:20200417T062143Z
UID:53470-1588240800-1588287600@carriernow.eu
SUMMARY:¿Quieres saber más sobre ellos?
DESCRIPTION:Evento Formativo Online.  \nLos condicionantes ambientales asociados al uso de refrigerantes son conocidos desde hace tiempo. En el pasado reciente se han ido eliminando aquellos que originaban la destrucción de la capa de ozono. Actualmente el entorno normativo nacional\, europeo y mundial nos encamina hacia la minimización del potencial de calentamiento atmosférico de los refrigerantes empleados. \nEste escenario ha obligado al desarrollo de refrigerantes sintéticos de 4ª generación\, sin efecto sobre la capa de ozono y con muy bajo o casi nulo potencial de calentamiento atmosférico: HFOs\, HFCs de medio impacto y mezclas de HFOs y HFCs (A1 y A2L). \nLa Jornada Técnica que presentamos repasa aspectos técnicos de los refrigerantes\, sus implicaciones en el diseño de instalaciones\, el entorno normativo (F-Gas\, Ecodiseño y RSIF)\, así como las soluciones tecnológicas disponibles para aplicaciones de climatización. \nImpartido por Josué Ros. \nDuración: 60 min. \nPuedes inscribirte aquí.
URL:https://carriernow.eu/event/quieres-saber-mas-sobre-ellos/
ATTACH;FMTTYPE=image/png:https://carriernow.eu/wp-content/uploads/2020/02/refrigerantes_online.png
END:VEVENT
BEGIN:VEVENT
DTSTART;TZID=Europe/Madrid:20200428T100000
DTEND;TZID=Europe/Madrid:20200428T110000
DTSTAMP:20260420T211250
CREATED:20200227T145310Z
LAST-MODIFIED:20200417T060241Z
UID:47854-1588068000-1588071600@carriernow.eu
SUMMARY:Un repaso a la actualidad normativa
DESCRIPTION:Evento Formativo Online. \nEnmarcada dentro del programa Carrier University Online\, durante esta sesión haremos un repaso de la actualidad normativa: FGas\, ecodiseño\, RSIF y carga límite en enfriadoras. Una charla muy interesante para clarificar conceptos que nos afectan en nuestro día a día.\nPonente: Enrique Gómez\nDuración: 60 min \nPuedes inscribirte aquí.
URL:https://carriernow.eu/event/entorno-normativo/
CATEGORIES:Eventos Carrier
ATTACH;FMTTYPE=image/png:https://carriernow.eu/wp-content/uploads/2020/02/Entorno-Normativo_online.png
END:VEVENT
BEGIN:VEVENT
DTSTART;TZID=Europe/Madrid:20200414T100000
DTEND;TZID=Europe/Madrid:20200416T110000
DTSTAMP:20260420T211250
CREATED:20200227T152555Z
LAST-MODIFIED:20200412T213806Z
UID:47883-1586858400-1587034800@carriernow.eu
SUMMARY:Seminario Online sobre Hourly Analysis Program
DESCRIPTION:Evento formativo organizado ONLINE. \nTe invitamos a formarte \nLanzamos este curso online\, dividido en 3 sesiones de 1 hora\, que servirá como repaso de los conceptos y funcionalidades principales del software Hourly Analysis Program (HAP). \nSESIÓN 1: Cálculo de cargas térmicas 14/04  10 a 11 \nSESIÓN 2: Comparación Sistemas 15/04  10 a 11 \nSESIÓN 3: Simulación Energética 16/04  10 a 11 \nSi estás interesado envíanos un correo a marketing.es@carrier.com.
URL:https://carriernow.eu/event/todo/
CATEGORIES:Eventos Carrier
ATTACH;FMTTYPE=image/png:https://carriernow.eu/wp-content/uploads/2020/02/HAP-2.png
END:VEVENT
END:VCALENDAR